BEGIN:VCALENDAR
VERSION:2.0
PRODID:-//wp-events-plugin.com//7.2.3.1//EN
BEGIN:VEVENT
UID:4@rbbsrc.graycelltech.net
DTSTART:20220416T100000Z
DTEND:20220416T140000Z
DTSTAMP:20220413T094840Z
URL:https://rbbsrc.graycelltech.net/events/blood-donation-camp-airport-lou
 nge-mohali/
SUMMARY:Blood donation camp-Airport Lounge\, Mohali
DESCRIPTION:
END:VEVENT
END:VCALENDAR