BEGIN:VCALENDAR
VERSION:2.0
PRODID:-//wp-events-plugin.com//7.2.3.1//EN
BEGIN:VEVENT
UID:88@rbbsrc.graycelltech.net
DTSTART:20230613T100000Z
DTEND:20230613T140000Z
DTSTAMP:20230603T041825Z
URL:https://rbbsrc.graycelltech.net/events/blood-donation-camp-at-aerial-t
 elecom-solutions-pvt-ltd-mohali-on-13-6-2023/
SUMMARY:Blood Donation Camp at Aerial Telecom Solutions Pvt. Ltd\, Mohali o
 n 13.6.2023
DESCRIPTION:
END:VEVENT
END:VCALENDAR