BEGIN:VCALENDAR
VERSION:2.0
PRODID:-//wp-events-plugin.com//7.2.3.1//EN
BEGIN:VEVENT
UID:55@rbbsrc.graycelltech.net
DTSTART:20230409T100000Z
DTEND:20230409T140000Z
DTSTAMP:20230406T034853Z
URL:https://rbbsrc.graycelltech.net/events/blood-donation-camp-at-aggarwal
 -dharmshala-bassi-pathana-on-09-04-2023/
SUMMARY:Blood Donation Camp at Aggarwal Dharmshala\, Bassi Pathana. on 09.0
 4.2023
DESCRIPTION:
END:VEVENT
END:VCALENDAR