BEGIN:VCALENDAR
VERSION:2.0
PRODID:-//wp-events-plugin.com//7.2.3.1//EN
BEGIN:VEVENT
UID:61@rbbsrc.graycelltech.net
DTSTART:20230504T100000Z
DTEND:20230504T140000Z
DTSTAMP:20230502T061053Z
URL:https://rbbsrc.graycelltech.net/events/blood-donation-camp-at-bhardwaj
 -hospital-sai-road-baddi-on-4-05-2023/
SUMMARY:Blood Donation Camp at Bhardwaj Hospital\, Sai Road \, Baddi on 4.0
 5.2023
DESCRIPTION:
END:VEVENT
END:VCALENDAR