BEGIN:VCALENDAR
VERSION:2.0
PRODID:-//wp-events-plugin.com//7.2.3.1//EN
BEGIN:VEVENT
UID:50@rbbsrc.graycelltech.net
DTSTART:20230325T090000Z
DTEND:20230325T090000Z
DTSTAMP:20230323T061355Z
URL:https://rbbsrc.graycelltech.net/events/blood-donation-camp-at-bhavan-v
 idyalaya-sector-15-panchkula-on-25-03-2023/
SUMMARY:Blood Donation Camp at Bhavan Vidyalaya\, Sector-15\, Panchkula on 
 25.03.2023
DESCRIPTION:
END:VEVENT
END:VCALENDAR