BEGIN:VCALENDAR
VERSION:2.0
PRODID:-//wp-events-plugin.com//7.2.3.1//EN
BEGIN:VEVENT
UID:71@rbbsrc.graycelltech.net
DTSTART:20230521T100000Z
DTEND:20230521T140000Z
DTSTAMP:20230516T112035Z
URL:https://rbbsrc.graycelltech.net/events/blood-donation-camp-at-birla-co
 mmunity-centre-near-bus-stand-baddi-on-19-05-2023/
SUMMARY:Blood Donation Camp at Gurudwara Jandisar Sahib\, Kainaur on 21/5/2
 023.
DESCRIPTION:
END:VEVENT
END:VCALENDAR