BEGIN:VCALENDAR
VERSION:2.0
PRODID:-//wp-events-plugin.com//7.2.3.1//EN
BEGIN:VEVENT
UID:29@rbbsrc.graycelltech.net
DTSTART:20220813T090000Z
DTEND:20220813T150000Z
DTSTAMP:20220812T045258Z
URL:https://rbbsrc.graycelltech.net/events/blood-donation-camp-at-blood-ce
 ntre-sector-37-chandigarh/
SUMMARY:Blood Donation Camp at Blood Centre\, Sector-37\, Chandigarh
DESCRIPTION:
END:VEVENT
END:VCALENDAR