BEGIN:VCALENDAR
VERSION:2.0
PRODID:-//wp-events-plugin.com//7.2.3.1//EN
BEGIN:VEVENT
UID:43@rbbsrc.graycelltech.net
DTSTART:20230318T100000Z
DTEND:20230318T140000Z
DTSTAMP:20230318T033526Z
URL:https://rbbsrc.graycelltech.net/events/blood-donation-camp-at-communit
 y-centre-dashmesh-nagar-bela-chownk-ropar-on-18-03-2023/
SUMMARY:Blood Donation Camp at Community Centre\, Dashmesh Nagar\, Bela Cho
 wnk\, Ropar. on 18.03.2023
DESCRIPTION:
END:VEVENT
END:VCALENDAR