BEGIN:VCALENDAR
VERSION:2.0
PRODID:-//wp-events-plugin.com//7.2.3.1//EN
BEGIN:VEVENT
UID:49@rbbsrc.graycelltech.net
DTSTART:20230326T100000Z
DTEND:20230326T140000Z
DTSTAMP:20230323T060954Z
URL:https://rbbsrc.graycelltech.net/events/blood-donation-camp-at-communit
 y-centre-dhanas-colony-chandigarh-on-26-03-2023/
SUMMARY:Blood Donation Camp at Community Centre\, Dhanas colony\,  Chand
 igarh on 26.03.2023
DESCRIPTION:
END:VEVENT
END:VCALENDAR