BEGIN:VCALENDAR
VERSION:2.0
PRODID:-//wp-events-plugin.com//7.2.3.1//EN
BEGIN:VEVENT
UID:39@rbbsrc.graycelltech.net
DTSTART:20230312T103000Z
DTEND:20230312T140000Z
DTSTAMP:20230310T061436Z
URL:https://rbbsrc.graycelltech.net/events/blood-donation-camp-at-communit
 y-centre-sector-28-b-chandigarh-on-12-03-2023/
SUMMARY:Blood Donation Camp at Community Centre Sector 28-B\, Chandigarh on
  12.03.2023
DESCRIPTION:
END:VEVENT
END:VCALENDAR