BEGIN:VCALENDAR
VERSION:2.0
PRODID:-//wp-events-plugin.com//7.2.3.1//EN
BEGIN:VEVENT
UID:86@rbbsrc.graycelltech.net
DTSTART:20230610T100000Z
DTEND:20230610T150000Z
DTSTAMP:20230603T041633Z
URL:https://rbbsrc.graycelltech.net/events/blood-donation-camp-at-crompton
 -greaves-baddi-on-10-6-2023/
SUMMARY:Blood Donation Camp at Crompton Greaves\, Baddi on 10.6.2023
DESCRIPTION:
END:VEVENT
END:VCALENDAR