BEGIN:VCALENDAR
VERSION:2.0
PRODID:-//wp-events-plugin.com//7.2.3.1//EN
BEGIN:VEVENT
UID:82@rbbsrc.graycelltech.net
DTSTART:20230605T100000Z
DTEND:20230605T140000Z
DTSTAMP:20230603T040915Z
URL:https://rbbsrc.graycelltech.net/events/blood-donation-camp-at-curetech
 -formulations-baddi-on-5-6-2023/
SUMMARY:Blood Donation Camp at Curetech Formulations \, Baddi on 5.6.2023
DESCRIPTION:
END:VEVENT
END:VCALENDAR