BEGIN:VCALENDAR
VERSION:2.0
PRODID:-//wp-events-plugin.com//7.2.3.1//EN
BEGIN:VEVENT
UID:54@rbbsrc.graycelltech.net
DTSTART:20230408T100000Z
DTEND:20230408T140000Z
DTSTAMP:20230406T034719Z
URL:https://rbbsrc.graycelltech.net/events/blood-donation-camp-at-curetech
 -formulations-pvt-ltd-juddi-kalan-baddi-on-08-04-2023/
SUMMARY:Blood Donation Camp at Curetech Formulations Pvt. Ltd. Juddi Kalan 
 \, Baddi on 08.04.2023
DESCRIPTION:
END:VEVENT
END:VCALENDAR