BEGIN:VCALENDAR
VERSION:2.0
PRODID:-//wp-events-plugin.com//7.2.3.1//EN
BEGIN:VEVENT
UID:64@rbbsrc.graycelltech.net
DTSTART:20230510T100000Z
DTEND:20230510T140000Z
DTSTAMP:20230502T061602Z
URL:https://rbbsrc.graycelltech.net/events/blood-donation-camp-at-elin-app
 liances-baddi-on-10-05-2023/
SUMMARY:Blood Donation Camp at Elin Appliances\, Baddi on 10.05.2023
DESCRIPTION:
END:VEVENT
END:VCALENDAR