BEGIN:VCALENDAR
VERSION:2.0
PRODID:-//wp-events-plugin.com//7.2.3.1//EN
BEGIN:VEVENT
UID:58@rbbsrc.graycelltech.net
DTSTART:20230423T100000Z
DTEND:20230423T140000Z
DTSTAMP:20230419T071857Z
URL:https://rbbsrc.graycelltech.net/events/blood-donation-camp-at-geeta-bh
 awan-kalka-on-23-04-2023/
SUMMARY:Blood Donation Camp at Geeta Bhawan \, Kalka on 23.04.2023
DESCRIPTION:
END:VEVENT
END:VCALENDAR