BEGIN:VCALENDAR
VERSION:2.0
PRODID:-//wp-events-plugin.com//7.2.3.1//EN
BEGIN:VEVENT
UID:31@rbbsrc.graycelltech.net
DTSTART:20220824T103000Z
DTEND:20220824T150000Z
DTSTAMP:20220823T074225Z
URL:https://rbbsrc.graycelltech.net/events/blood-donation-camp-at-global-h
 ospital-baddi/
SUMMARY:Blood Donation Camp at Global Hospital\, Baddi
DESCRIPTION:
END:VEVENT
END:VCALENDAR