BEGIN:VCALENDAR
VERSION:2.0
PRODID:-//wp-events-plugin.com//7.2.3.1//EN
BEGIN:VEVENT
UID:74@rbbsrc.graycelltech.net
DTSTART:20230525T100000Z
DTEND:20230525T140000Z
DTSTAMP:20230524T061533Z
URL:https://rbbsrc.graycelltech.net/events/blood-donation-camp-at-govt-pol
 ytechnic-nanakpur-panchkula-on-25-4-2023/
SUMMARY:Blood Donation Camp at Govt. Polytechnic\, Nanakpur\, Panchkula. on
  25.4.2023
DESCRIPTION:
END:VEVENT
END:VCALENDAR