BEGIN:VCALENDAR
VERSION:2.0
PRODID:-//wp-events-plugin.com//7.2.3.1//EN
BEGIN:VEVENT
UID:62@rbbsrc.graycelltech.net
DTSTART:20230506T100000Z
DTEND:20230506T140000Z
DTSTAMP:20230502T061225Z
URL:https://rbbsrc.graycelltech.net/events/blood-donation-camp-at-gupta-pr
 operty-baddi-on-06-05-2023/
SUMMARY:Blood Donation Camp at Gupta Property \, Baddi on 06.05.2023
DESCRIPTION:
END:VEVENT
END:VCALENDAR