BEGIN:VCALENDAR
VERSION:2.0
PRODID:-//wp-events-plugin.com//7.2.3.1//EN
BEGIN:VEVENT
UID:56@rbbsrc.graycelltech.net
DTSTART:20230414T100000Z
DTEND:20230414T140000Z
DTSTAMP:20230406T035121Z
URL:https://rbbsrc.graycelltech.net/events/blood-donation-camp-at-gurudwar
 a-head-darbar-kot-puran-sahib-ji-nawabshahr-on-14-04-2023/
SUMMARY:Blood Donation Camp at Gurudwara Head Darbar Kot Puran Sahib Ji\, N
 awabshahr. on 14.04.2023
DESCRIPTION:
END:VEVENT
END:VCALENDAR