BEGIN:VCALENDAR
VERSION:2.0
PRODID:-//wp-events-plugin.com//7.2.3.1//EN
BEGIN:VEVENT
UID:40@rbbsrc.graycelltech.net
DTSTART:20230313T090000Z
DTEND:20230313T130000Z
DTSTAMP:20230311T063327Z
URL:https://rbbsrc.graycelltech.net/events/blood-donation-camp-at-gurudwar
 a-kotwali-sahib-morinda-on-13-03-2023/
SUMMARY:Blood Donation Camp at Gurudwara Kotwali Sahib\, Morinda. on 13.03.
 2023
DESCRIPTION:
END:VEVENT
END:VCALENDAR