BEGIN:VCALENDAR
VERSION:2.0
PRODID:-//wp-events-plugin.com//7.2.3.1//EN
BEGIN:VEVENT
UID:30@rbbsrc.graycelltech.net
DTSTART:20220821T100000Z
DTEND:20220821T133000Z
DTSTAMP:20220820T081023Z
URL:https://rbbsrc.graycelltech.net/events/blood-donation-camp-at-gurudwar
 a-singh-saheedan-vill-bhakhumajra-distt-ropar/
SUMMARY:Blood Donation Camp at Gurudwara Singh Saheedan\, Vill. Bhakhumajra
 \, Distt. Ropar
DESCRIPTION:
END:VEVENT
END:VCALENDAR