BEGIN:VCALENDAR
VERSION:2.0
PRODID:-//wp-events-plugin.com//7.2.3.1//EN
BEGIN:VEVENT
UID:46@rbbsrc.graycelltech.net
DTSTART:20230325T090000Z
DTEND:20230325T120000Z
DTSTAMP:20230321T062510Z
URL:https://rbbsrc.graycelltech.net/events/blood-donation-camp-at-health-c
 entre-dainik-bhaskar-colony-sector-25-chandigarh-on-22-03-2023/
SUMMARY:Blood Donation Camp at Bhavan Vidyalaya\, Sector-15\, Panchkula. on
  25.03.2023
DESCRIPTION:
END:VEVENT
END:VCALENDAR