BEGIN:VCALENDAR
VERSION:2.0
PRODID:-//wp-events-plugin.com//7.2.3.1//EN
BEGIN:VEVENT
UID:87@rbbsrc.graycelltech.net
DTSTART:20230611T100000Z
DTEND:20230611T140000Z
DTSTAMP:20230603T041720Z
URL:https://rbbsrc.graycelltech.net/events/blood-donation-camp-at-hillview
 -appartment-baddi-on-11-6-2023/
SUMMARY:Blood Donation Camp at Hillview Appartment \, Baddi on 11.6.2023
DESCRIPTION:
END:VEVENT
END:VCALENDAR