BEGIN:VCALENDAR
VERSION:2.0
PRODID:-//wp-events-plugin.com//7.2.3.1//EN
BEGIN:VEVENT
UID:60@rbbsrc.graycelltech.net
DTSTART:20230502T100000Z
DTEND:20230502T130000Z
DTSTAMP:20230502T060937Z
URL:https://rbbsrc.graycelltech.net/events/blood-donation-camp-at-hmchrcmu
 llanpur-punjab-on-02-05-2023/
SUMMARY:BLOOD DONATION CAMP AT HMCHRC\,MULLANPUR\, PUNJAB ON 02.05.2023
DESCRIPTION:
END:VEVENT
END:VCALENDAR