BEGIN:VCALENDAR
VERSION:2.0
PRODID:-//wp-events-plugin.com//7.2.3.1//EN
BEGIN:VEVENT
UID:85@rbbsrc.graycelltech.net
DTSTART:20230609T100000Z
DTEND:20230609T140000Z
DTSTAMP:20230603T041517Z
URL:https://rbbsrc.graycelltech.net/events/blood-donation-camp-at-holy-bas
 il-mediclinic-on-9-6-2023/
SUMMARY:Blood Donation Camp at Holy Basil Mediclinic on 9.6.2023
DESCRIPTION:
END:VEVENT
END:VCALENDAR