BEGIN:VCALENDAR
VERSION:2.0
PRODID:-//wp-events-plugin.com//7.2.3.1//EN
BEGIN:VEVENT
UID:53@rbbsrc.graycelltech.net
DTSTART:20230406T100000Z
DTEND:20230406T130000Z
DTSTAMP:20230405T052302Z
URL:https://rbbsrc.graycelltech.net/events/blood-donation-camp-at-homoeopa
 thic-medical-college-hospital-sector-26-chandigarh-on-06-04-2023/
SUMMARY:Blood Donation Camp at Homoeopathic Medical College &amp\; Hospital
 \, Sector -26\, Chandigarh. on 06.04.2023
DESCRIPTION:
END:VEVENT
END:VCALENDAR