BEGIN:VCALENDAR
VERSION:2.0
PRODID:-//wp-events-plugin.com//7.2.3.1//EN
BEGIN:VEVENT
UID:52@rbbsrc.graycelltech.net
DTSTART:20230403T100000Z
DTEND:20230403T160000Z
DTSTAMP:20230401T055828Z
URL:https://rbbsrc.graycelltech.net/events/blood-donation-camp-at-jain-sth
 anak-jain-mohalla-ropar-on-02-04-2023/
SUMMARY:Blood Donation Camp at Moh Office\, 30 Bays Building\, Sec-17 B\, C
 handigarh. on 03.04.2023
DESCRIPTION:
END:VEVENT
END:VCALENDAR