BEGIN:VCALENDAR
VERSION:2.0
PRODID:-//wp-events-plugin.com//7.2.3.1//EN
BEGIN:VEVENT
UID:84@rbbsrc.graycelltech.net
DTSTART:20230608T100000Z
DTEND:20230608T150000Z
DTSTAMP:20230603T041419Z
URL:https://rbbsrc.graycelltech.net/events/blood-donation-camp-at-jsk-badd
 i-on-8-6-2023/
SUMMARY:Blood Donation Camp at JSK\, Baddi. on 8.6.2023
DESCRIPTION:
END:VEVENT
END:VCALENDAR