BEGIN:VCALENDAR
VERSION:2.0
PRODID:-//wp-events-plugin.com//7.2.3.1//EN
BEGIN:VEVENT
UID:81@rbbsrc.graycelltech.net
DTSTART:20230603T110000Z
DTEND:20230603T150000Z
DTSTAMP:20230603T040742Z
URL:https://rbbsrc.graycelltech.net/events/blood-donation-camp-at-jubilee-
 wali-mohali-on-3-6-2023/
SUMMARY:Blood Donation Camp at Jubilee Wali\, Mohali on 3.6.2023
DESCRIPTION:
END:VEVENT
END:VCALENDAR