BEGIN:VCALENDAR
VERSION:2.0
PRODID:-//wp-events-plugin.com//7.2.3.1//EN
BEGIN:VEVENT
UID:72@rbbsrc.graycelltech.net
DTSTART:20230523T100000Z
DTEND:20230523T153000Z
DTSTAMP:20230522T045340Z
URL:https://rbbsrc.graycelltech.net/events/blood-donation-camp-at-kingspan
 -jindal-pvt-ltd-vill-souri-nalagarh-baddi-distt-solan-hp-on-23-5-2023/
SUMMARY:Blood Donation Camp at Kingspan Jindal Pvt Ltd\, Vill- Souri\, Nala
 garh\, Baddi Distt. Solan HP. on 23.5.2023
DESCRIPTION:
END:VEVENT
END:VCALENDAR