BEGIN:VCALENDAR
VERSION:2.0
PRODID:-//wp-events-plugin.com//7.2.3.1//EN
BEGIN:VEVENT
UID:78@rbbsrc.graycelltech.net
DTSTART:20230531T100000Z
DTEND:20230531T140000Z
DTSTAMP:20230530T052640Z
URL:https://rbbsrc.graycelltech.net/events/blood-donation-camp-at-minerva-
 academy-vill-daun-mohali/
SUMMARY:Blood Donation Camp at Minerva Academy \, Vill- Daun \, Mohali. on 
 31.5.2023
DESCRIPTION:
END:VEVENT
END:VCALENDAR