BEGIN:VCALENDAR
VERSION:2.0
PRODID:-//wp-events-plugin.com//7.2.3.1//EN
BEGIN:VEVENT
UID:38@rbbsrc.graycelltech.net
DTSTART:20230310T110000Z
DTEND:20230310T160000Z
DTSTAMP:20230310T051337Z
URL:https://rbbsrc.graycelltech.net/events/blood-donation-camp-at-mobile-m
 arket-sector-22-chandigarh-on-10-03-2023/
SUMMARY:Blood Donation Camp at Mobile Market\, Sector-22\, Chandigarh on 10
 .03.2023
DESCRIPTION:
END:VEVENT
END:VCALENDAR