BEGIN:VCALENDAR
VERSION:2.0
PRODID:-//wp-events-plugin.com//7.2.3.1//EN
BEGIN:VEVENT
UID:73@rbbsrc.graycelltech.net
DTSTART:20230522T100000Z
DTEND:20230522T140000Z
DTSTAMP:20230522T045539Z
URL:https://rbbsrc.graycelltech.net/events/blood-donation-camp-at-mohali-i
 ndustries-association-bay-no-143-144-industrial-area-phase-7-mohali-1122-s
 ector-71-mohali-on-22-5-2023/
SUMMARY:Blood Donation Camp at Mohali Industries Association Bay No: 143-14
 4  Industrial Area Phase 7 Mohali. 1122 Sector 71 Mohali. on 22.5.2023
DESCRIPTION:
END:VEVENT
END:VCALENDAR