BEGIN:VCALENDAR
VERSION:2.0
PRODID:-//wp-events-plugin.com//7.2.3.1//EN
BEGIN:VEVENT
UID:76@rbbsrc.graycelltech.net
DTSTART:20230601T093000Z
DTEND:20230601T140000Z
DTSTAMP:20230527T083415Z
URL:https://rbbsrc.graycelltech.net/events/blood-donation-camp-at-omaxe-cl
 ub-omaxe-phase-1-mullanapur-on-1-6-2023/
SUMMARY:Blood Donation Camp at Omaxe Club Omaxe Phase 1\, Mullanapur on 
 1.6.2023
DESCRIPTION:
END:VEVENT
END:VCALENDAR