BEGIN:VCALENDAR
VERSION:2.0
PRODID:-//wp-events-plugin.com//7.2.3.1//EN
BEGIN:VEVENT
UID:51@rbbsrc.graycelltech.net
DTSTART:20230328T093000Z
DTEND:20230328T133000Z
DTSTAMP:20230327T061800Z
URL:https://rbbsrc.graycelltech.net/events/blood-donation-camp-at-pal-svam
 -power-solutions-pvt-ltdplot-no-a-44-phase-8-b-industrial-area-mohali-on-2
 8-03-2023/
SUMMARY:Blood Donation Camp at Pal Svam Power Solutions Pvt. Ltd”Plot No.
  A-44\, Phase-8-B\,  Industrial Area\, Mohali\, on 28.03.2023
DESCRIPTION:
END:VEVENT
END:VCALENDAR