BEGIN:VCALENDAR
VERSION:2.0
PRODID:-//wp-events-plugin.com//7.2.3.1//EN
BEGIN:VEVENT
UID:47@rbbsrc.graycelltech.net
DTSTART:20230322T100000Z
DTEND:20230322T130000Z
DTSTAMP:20230321T062958Z
URL:https://rbbsrc.graycelltech.net/events/blood-donation-camp-at-quest-gr
 oup-of-institutions-opp-village-jhanjheri-mohali-on-21-03-2023-2/
SUMMARY:Blood Donation Camp at Health Centre\, Dainik Bhaskar Colony\, Sect
 or-25\, Chandigarh on 22.03.2023
DESCRIPTION:
END:VEVENT
END:VCALENDAR