BEGIN:VCALENDAR
VERSION:2.0
PRODID:-//wp-events-plugin.com//7.2.3.1//EN
BEGIN:VEVENT
UID:45@rbbsrc.graycelltech.net
DTSTART:20230323T100000Z
DTEND:20230323T133000Z
DTSTAMP:20230320T064344Z
URL:https://rbbsrc.graycelltech.net/events/blood-donation-camp-at-quest-gr
 oup-of-institutions-opp-village-jhanjheri-mohali-on-21-03-2023/
SUMMARY:Blood Donation Camp at Gurudwara Singh Sabha Bitna Road Pinjore. on
  23.03.2023
DESCRIPTION:
END:VEVENT
END:VCALENDAR