BEGIN:VCALENDAR
VERSION:2.0
PRODID:-//wp-events-plugin.com//7.2.3.1//EN
BEGIN:VEVENT
UID:83@rbbsrc.graycelltech.net
DTSTART:20230606T100000Z
DTEND:20230606T140000Z
DTSTAMP:20230603T041141Z
URL:https://rbbsrc.graycelltech.net/events/blood-donation-camp-at-railway-
 station-ropar-on-6-6-2023/
SUMMARY:Blood Donation Camp at Railway Station \, Ropar on 6.6.2023
DESCRIPTION:
END:VEVENT
END:VCALENDAR