BEGIN:VCALENDAR
VERSION:2.0
PRODID:-//wp-events-plugin.com//7.2.3.1//EN
BEGIN:VEVENT
UID:44@rbbsrc.graycelltech.net
DTSTART:20230319T100000Z
DTEND:20230319T150000Z
DTSTAMP:20230318T033640Z
URL:https://rbbsrc.graycelltech.net/events/blood-donation-camp-at-rbbsrc-3
 7-a-chandigarh-on-19-03-2023/
SUMMARY:Blood Donation Camp at RBBSRC-37 A\, Chandigarh. on 19.03.2023
DESCRIPTION:
END:VEVENT
END:VCALENDAR