BEGIN:VCALENDAR
VERSION:2.0
PRODID:-//wp-events-plugin.com//7.2.3.1//EN
BEGIN:VEVENT
UID:75@rbbsrc.graycelltech.net
DTSTART:20230527T100000Z
DTEND:20230528T140000Z
DTSTAMP:20230527T083108Z
URL:https://rbbsrc.graycelltech.net/events/blood-donation-camp-at-scf-34ne
 w-anaj-mandi-rupnagar-on-28-05-2023/
SUMMARY:Blood Donation Camp at SCF 34\,New Anaj Mandi\, Rupnagar.on 28.05.2
 023
DESCRIPTION:
END:VEVENT
END:VCALENDAR