BEGIN:VCALENDAR
VERSION:2.0
PRODID:-//wp-events-plugin.com//7.2.3.1//EN
BEGIN:VEVENT
UID:63@rbbsrc.graycelltech.net
DTSTART:20230508T100000Z
DTEND:20230508T140000Z
DTSTAMP:20230502T061345Z
URL:https://rbbsrc.graycelltech.net/events/blood-donation-camp-at-sector-1
 0-panchkula-near-axis-bank-branch-on-8-5-2023/
SUMMARY:Blood Donation Camp at Sector 10\, Panchkula near Axis Bank Branch 
 on 8.5.2023
DESCRIPTION:
END:VEVENT
END:VCALENDAR