BEGIN:VCALENDAR
VERSION:2.0
PRODID:-//wp-events-plugin.com//7.2.3.1//EN
BEGIN:VEVENT
UID:59@rbbsrc.graycelltech.net
DTSTART:20230429T100000Z
DTEND:20230429T140000Z
DTSTAMP:20230427T061015Z
URL:https://rbbsrc.graycelltech.net/events/blood-donation-camp-at-shri-sha
 kti-dharamshala-khamano-on-29-04-2023/
SUMMARY:Blood Donation Camp at Shri Shakti Dharamshala\, Khamano on 29.04.2
 023
DESCRIPTION:
END:VEVENT
END:VCALENDAR