BEGIN:VCALENDAR
VERSION:2.0
PRODID:-//wp-events-plugin.com//7.2.3.1//EN
BEGIN:VEVENT
UID:65@rbbsrc.graycelltech.net
DTSTART:20230513T100000Z
DTEND:20230513T150000Z
DTSTAMP:20230502T061733Z
URL:https://rbbsrc.graycelltech.net/events/blood-donation-camp-at-st-johns
 -school-chandigarh-on-13-05-2023/
SUMMARY:Blood Donation Camp at St John's School\,Sector-26\,  Chandigarh on
  13.05.2023
DESCRIPTION:
END:VEVENT
END:VCALENDAR