BEGIN:VCALENDAR
VERSION:2.0
PRODID:-//wp-events-plugin.com//7.2.3.1//EN
BEGIN:VEVENT
UID:28@rbbsrc.graycelltech.net
DTSTART:20220806T083000Z
DTEND:20220806T130000Z
DTSTAMP:20220804T052053Z
URL:https://rbbsrc.graycelltech.net/events/blood-donation-camp-at-st-steph
 ens-school-sec-45-b-chd-on-06-08-2022/
SUMMARY:Blood Donation Camp at St. Stephen's School\, Sec-45-B\, Chd.
DESCRIPTION:[et_pb_section fb_built="1" _builder_version="4.17.4" _module_p
 reset="default" global_colors_info="{}"][/et_pb_section]
END:VEVENT
END:VCALENDAR