BEGIN:VCALENDAR
VERSION:2.0
PRODID:-//wp-events-plugin.com//7.2.3.1//EN
BEGIN:VEVENT
UID:11@rbbsrc.graycelltech.net
DTSTART:20220501T100000Z
DTEND:20220501T140000Z
DTSTAMP:20220430T041644Z
URL:https://rbbsrc.graycelltech.net/events/blood-donation-camp-bassi-patha
 na/
SUMMARY:Blood donation camp- Aggarwal Dharamshala\, Bassi Pathana\, FGS
DESCRIPTION:
END:VEVENT
END:VCALENDAR