BEGIN:VCALENDAR
VERSION:2.0
PRODID:-//wp-events-plugin.com//7.2.3.1//EN
BEGIN:VEVENT
UID:17@rbbsrc.graycelltech.net
DTSTART:20220614T090000Z
DTEND:20220614T160000Z
DTSTAMP:20220613T035843Z
URL:https://rbbsrc.graycelltech.net/events/blood-donation-camp-blood-centr
 e-37-chandigarh-3/
SUMMARY:Blood donation camp by CATS-Blood Centre-37\, Chandigarh
DESCRIPTION:
LOCATION:\, \, 
X-APPLE-STRUCTURED-LOCATION;VALUE=URI;X-ADDRESS=\, ;X-APPLE-RADIUS=100;X-TI
 TLE=:geo:0,0
END:VEVENT
END:VCALENDAR