BEGIN:VCALENDAR
VERSION:2.0
PRODID:-//wp-events-plugin.com//7.2.3.1//EN
BEGIN:VEVENT
UID:32@rbbsrc.graycelltech.net
DTSTART:20220827T090000Z
DTEND:20220827T140000Z
DTSTAMP:20220826T035536Z
URL:https://rbbsrc.graycelltech.net/events/blood-donation-camp-blood-centr
 e-37-chandigarh-6/
SUMMARY:Blood donation camp-Blood Centre-37\, Chandigarh
DESCRIPTION:
END:VEVENT
END:VCALENDAR