BEGIN:VCALENDAR
VERSION:2.0
PRODID:-//wp-events-plugin.com//7.2.3.1//EN
BEGIN:VEVENT
UID:3@rbbsrc.graycelltech.net
DTSTART:20220416T090000Z
DTEND:20220416T150000Z
DTSTAMP:20220413T092550Z
URL:https://rbbsrc.graycelltech.net/events/blood-donation-camp-blood-centr
 e-37-chandigarh/
SUMMARY:Blood donation camp-Blood Centre-37\, Chandigarh
DESCRIPTION:
END:VEVENT
END:VCALENDAR