BEGIN:VCALENDAR
VERSION:2.0
PRODID:-//wp-events-plugin.com//7.2.3.1//EN
BEGIN:VEVENT
UID:10@rbbsrc.graycelltech.net
DTSTART:20220428T100000Z
DTEND:20220428T130000Z
DTSTAMP:20220426T043037Z
URL:https://rbbsrc.graycelltech.net/events/blood-donation-camp-buest-baddi
 /
SUMMARY:Blood donation camp-BUEST\, Baddi
DESCRIPTION:
END:VEVENT
END:VCALENDAR