BEGIN:VCALENDAR
VERSION:2.0
PRODID:-//wp-events-plugin.com//7.2.3.1//EN
BEGIN:VEVENT
UID:269@rbbsrc.graycelltech.net
DTSTART:20260213T100000Z
DTEND:20260213T140000Z
DTSTAMP:20260211T043812Z
URL:https://rbbsrc.graycelltech.net/events/blood-donation-camp-chandigarh-
 college-of-architecture-chd/
SUMMARY:BLOOD DONATION CAMP - CHANDIGARH COLLEGE OF ARCHITECTURE\, CHD.
DESCRIPTION:Camp: Chandigarh college of Architecture\, CHD.\nVenue: Punjab 
 Engineering College (PEC) Campus\, Sector 12 D\, Chandigarh.\nDate &amp\; 
 Time: 13 February\, 2026 (10:00 AM to 02:00 PM).
END:VEVENT
END:VCALENDAR